BEGIN:VCALENDAR
VERSION:2.0
PRODID:-//wp-events-plugin.com//7.2.3.1//EN
TZID:Europe/Berlin
X-WR-TIMEZONE:Europe/Berlin
BEGIN:VEVENT
UID:314@digitalzentrum-saarbruecken.de
DTSTART;TZID=Europe/Berlin:20240809T150000
DTEND;TZID=Europe/Berlin:20240809T163000
DTSTAMP:20240613T061348Z
URL:https://digitalzentrum-saarbruecken.de/events/changemanagement-potenzi
 ale-entdecken-wandel-vorantreiben-4/
SUMMARY:Changemanagement - Potenziale entdecken\, Wandel vorantreiben
DESCRIPTION:In dieser Grundlagenveranstaltung erhalten Sie neben allgemeine
 n Informationen zu Changemanagement auch Informationen dazu\, wieso bei M
 itarbeitenden im Rahmen von Change-Projekten Widerstände entstehen und E
 mpfehlungen zu dem richtigen Umgang mit Widerständen. Einen weiteren Sc
 hwerpunkt der Veranstaltung bilden unterschiedliche Erfolgsfaktoren in Ch
 ange-Projekten.\nInhalte\n\n\n 	Allgemeine Informationen zu Changemanageme
 nt​\n 	Widerstände in Change-Projekten​\n 	Erfolgsfaktoren in Change-
 Projekten \n\nZielsetzung\n\n 	Sie lernen die Notwendigkeit des Wandels z
 u verstehen ​\n 	Sie lernen Formen von Widerständen in Change-Projekten
  und entsprechende Handlungsmöglichkeiten kennen​\n 	Sie erlangen Verst
 ändnis für die Wichtigkeit von Kommunikation\, Partizipation und Schulun
 gen in Change-Projekten \n\nZielgruppe\n\n 	Branchenübergreifend – Fü
 hrungskräfte\, Entscheider:innen\, Mitarbeiter:innen und Interessierte au
 s KMU​\n 	Keine Vorkenntnisse erforderlich\n\nReferent\n\n[av_one_full f
 irst]\n\n[av_one_third first]\n\n[av_team_member name='\n\nMarkus Haus' jo
 b='' src='https://digitalzentrum-saarbruecken.de/wp-content/uploads/2023/0
 2/Markus-Haus-scaled.jpg' attachment='25302' attachment_size='portfolio' i
 mage_width='' description='\n\nDigitalisierungsexperteE-Mail: m.haus@digit
 alzentrum-saarbruecken.de' image_size='' image_width='' border='' border_w
 idth='' border_width_sync='true' border_color='' border_radius='' border_r
 adius_sync='true' size-name='' av-desktop-font-size-name='' av-medium-font
 -size-name='' av-small-font-size-name='' av-mini-font-size-name='' size-jo
 b='' av-desktop-font-size-job='' av-medium-font-size-job='' av-small-font-
 size-job='' av-mini-font-size-job='' size-description='' av-desktop-font-s
 ize-description='' av-medium-font-size-description='' av-small-font-size-d
 escription='' av-mini-font-size-description='' font_color='' custom_title=
 '' custom_job='' custom_content='' custom_icon='' custom_icon_hover='' img
 _scrset='' lazy_loading='disabled' id='' custom_class='' template_class=''
  av_uid='' sc_version='1.0' admin_preview_bg='']\n[av_team_icon title='E-M
 ail' link='mailto: m.haus@digitalzentrum-saarbruecken.d' link_target='' ic
 on='ue805' font='entypo-fontello' av_uid='av-lbatu39m' sc_version='1.0']\n
 \n[/av_team_member]\n\n[/av_one_third]\n\n[av_one_third][/av_one_third]\n\
 n[av_one_third][/av_one_third]\n\n[/av_one_full]\n\n&nbsp\;\n\nIn Kooperat
 ion mit\n\n[av_image src='https://digitalzentrum-saarbruecken.de/wp-conten
 t/uploads/2023/06/EDIH_RGB-300x128.png' attachment='6140' attachment_size=
 'medium' copyright='' caption='' image_size='' styling='' box_shadow='none
 ' box_shadow_width='10' box_shadow_color='' align='left' font_size='' over
 lay_opacity='0.4' overlay_color='#000000' overlay_text_color='#ffffff' lin
 k='' target='' animation='no-animation' animation_duration='' animation_cu
 stom_bg_color='' animation_z_index_curtain='100' parallax_parallax='' para
 llax_parallax_speed='' av-desktop-parallax_parallax='' av-desktop-parallax
 _parallax_speed='' av-medium-parallax_parallax='' av-medium-parallax_paral
 lax_speed='' av-small-parallax_parallax='' av-small-parallax_parallax_spee
 d='' av-mini-parallax_parallax='' av-mini-parallax_parallax_speed='' hover
 ='' blur_image='' grayscale_image='' fade_image='' appearance='' css_posit
 ion='' css_position_location='\,\,\,' css_position_z_index='' av-desktop-c
 ss_position='' av-desktop-css_position_location='\,\,\,' av-desktop-css_po
 sition_z_index='' av-medium-css_position='' av-medium-css_position_locatio
 n='\,\,\,' av-medium-css_position_z_index='' av-small-css_position='' av-s
 mall-css_position_location='\,\,\,' av-small-css_position_z_index='' av-mi
 ni-css_position='' av-mini-css_position_location='\,\,\,' av-mini-css_posi
 tion_z_index='' transform_perspective='' transform_rotation='\,\,\,' trans
 form_scale='\,\,' transform_skew='\,' transform_translate='\,\,' av-deskto
 p-transform_perspective='' av-desktop-transform_rotation='\,\,\,' av-deskt
 op-transform_scale='\,\,' av-desktop-transform_skew='\,' av-desktop-transf
 orm_translate='\,\,' av-medium-transform_perspective='' av-medium-transfor
 m_rotation='\,\,\,' av-medium-transform_scale='\,\,' av-medium-transform_s
 kew='\,' av-medium-transform_translate='\,\,' av-small-transform_perspecti
 ve='' av-small-transform_rotation='\,\,\,' av-small-transform_scale='\,\,'
  av-small-transform_skew='\,' av-small-transform_translate='\,\,' av-mini-
 transform_perspective='' av-mini-transform_rotation='\,\,\,' av-mini-trans
 form_scale='\,\,' av-mini-transform_skew='\,' av-mini-transform_translate=
 '\,\,' mask_overlay='' mask_overlay_shape='blob' mask_overlay_size='contai
 n' mask_overlay_scale='100%' mask_overlay_position='center center' mask_ov
 erlay_repeat='no-repeat' mask_overlay_rotate='' mask_overlay_rad_shape='ci
 rcle' mask_overlay_rad_position='center center' mask_overlay_opacity1='0' 
 mask_overlay_opacity2='1' mask_overlay_opacity3='' title_attr='' alt_attr=
 '' img_scrset='' lazy_loading='disabled' id='' custom_class='' template_cl
 ass='' element_template='' one_element_template='' av_element_hidden_in_ed
 itor='0' av_uid='' sc_version='1.0' admin_preview_bg=''][/av_image]\n\n[av
 _hr class='invisible' icon_select='yes' icon='ue808' font='entypo-fontello
 ' position='center' shadow='no-shadow' height='50' custom_border='av-borde
 r-thin' custom_width='50px' custom_margin_top='30px' custom_margin_bottom=
 '30px' custom_border_color='' custom_icon_color='' id='' custom_class='' t
 emplate_class='' element_template='' one_element_template='' av_uid='' sc_
 version='1.0' admin_preview_bg='']\n\n&nbsp\;\n\nDie Teilnahme an den Vera
 nstaltungen ist kostenlos. Wenn Sie an der Veranstaltung teilnehmen möcht
 en\, tragen Sie sich bitte über das unten stehende Anmeldeformular ein. N
 ach erfolgreicher Buchung erhalten Sie eine Bestätigungs-Mail von uns\, s
 owie zwei Tage vor der Veranstaltung den Online-Link.
LOCATION:Online Webinar\, Webinar\, Online\, Deutschland
X-APPLE-STRUCTURED-LOCATION;VALUE=URI;X-ADDRESS=Webinar\, Online\, Deutschl
 and;X-APPLE-RADIUS=100;X-TITLE=Online Webinar:geo:0,0
END:VEVENT
BEGIN:VTIMEZONE
TZID:Europe/Berlin
X-LIC-LOCATION:Europe/Berlin
BEGIN:DAYLIGHT
DTSTART:20240331T030000
TZOFFSETFROM:+0100
TZOFFSETTO:+0200
TZNAME:CEST
END:DAYLIGHT
END:VTIMEZONE
END:VCALENDAR