BEGIN:VCALENDAR
VERSION:2.0
PRODID:-//wp-events-plugin.com//7.2.3.1//EN
TZID:Europe/Berlin
X-WR-TIMEZONE:Europe/Berlin
BEGIN:VEVENT
UID:502@digitalzentrum-saarbruecken.de
DTSTART;TZID=Europe/Berlin:20251006T140000
DTEND;TZID=Europe/Berlin:20251006T153000
DTSTAMP:20250902T114416Z
URL:https://digitalzentrum-saarbruecken.de/events/changemanagement-potenzi
 ale-und-wandel/
SUMMARY:Webinar: Changemanagement – Potenziale entdecken\, Wandel vorantr
 eiben
DESCRIPTION:In dieser Grundlagenveranstaltung erhalten Sie neben allgemeine
 n Informationen zu Changemanagement auch Informationen dazu\, wieso bei Mi
 tarbeitenden im Rahmen von Change-Projekten Widerstände entstehen und Emp
 fehlungen zu dem richtigen Umgang mit Widerständen. Einen weiteren Schwe
 rpunkt der Veranstaltung bilden unterschiedliche Erfolgsfaktoren in Change
 -Projekten.
CATEGORIES:Changemanagement
LOCATION:Online Webinar\, Webinar\, Online\, Deutschland
X-APPLE-STRUCTURED-LOCATION;VALUE=URI;X-ADDRESS=Webinar\, Online\, Deutschl
 and;X-APPLE-RADIUS=100;X-TITLE=Online Webinar:geo:0,0
END:VEVENT
BEGIN:VTIMEZONE
TZID:Europe/Berlin
X-LIC-LOCATION:Europe/Berlin
BEGIN:DAYLIGHT
DTSTART:20250330T030000
TZOFFSETFROM:+0100
TZOFFSETTO:+0200
TZNAME:CEST
END:DAYLIGHT
END:VTIMEZONE
END:VCALENDAR