BEGIN:VCALENDAR
VERSION:2.0
PRODID:-//wp-events-plugin.com//7.2.3.1//EN
TZID:Europe/Berlin
X-WR-TIMEZONE:Europe/Berlin
BEGIN:VEVENT
UID:537@digitalzentrum-saarbruecken.de
DTSTART;TZID=Europe/Berlin:20251212T130000
DTEND;TZID=Europe/Berlin:20251212T143000
DTSTAMP:20251021T115923Z
URL:https://digitalzentrum-saarbruecken.de/events/erfolgreich-ki-einfuehre
 n-mit-change-kompetenz-widerstaende-ueberwinden/
SUMMARY:Erfolgreich KI einführen: Mit Change-Kompetenz Widerstände überw
 inden
DESCRIPTION:Ein zentraler Punkt für den Erfolg von Change-Projekten ist di
 e Mitwirkung der Beteiligten und deren Einstellung zu dem jeweiligen Proje
 kt. Sofern es im Laufe des Projektes zu Widerständen kommt\, gilt es\, ad
 äquat zu reagieren. Dieser Workshop sensibilisiert die Teilnehmenden für
  das Themenfeld der Widerstände. Dabei wird auch die Wichtigkeit von Komm
 unikation und Partizipation im Kontext der Widerstände thematisiert.
CATEGORIES:Changemanagement,IT-Sicherheit
LOCATION:Online Workshop\, Workshop\, Online\, Deutschland
X-APPLE-STRUCTURED-LOCATION;VALUE=URI;X-ADDRESS=Workshop\, Online\, Deutsch
 land;X-APPLE-RADIUS=100;X-TITLE=Online Workshop:geo:0,0
END:VEVENT
BEGIN:VTIMEZONE
TZID:Europe/Berlin
X-LIC-LOCATION:Europe/Berlin
BEGIN:STANDARD
DTSTART:20251026T020000
TZOFFSETFROM:+0200
TZOFFSETTO:+0100
TZNAME:CET
END:STANDARD
END:VTIMEZONE
END:VCALENDAR