BEGIN:VCALENDAR
VERSION:2.0
PRODID:-//wp-events-plugin.com//7.2.3.1//EN
TZID:Europe/Berlin
X-WR-TIMEZONE:Europe/Berlin
BEGIN:VEVENT
UID:589@digitalzentrum-saarbruecken.de
DTSTART;TZID=Europe/Berlin:20260625T140000
DTEND;TZID=Europe/Berlin:20260625T150000
DTSTAMP:20260309T083743Z
URL:https://digitalzentrum-saarbruecken.de/events/technologiefuehrung-vor-
 ort-kuenstliche-intelligenz-in-der-produktion/
SUMMARY:Technologieführung vor Ort: Künstliche Intelligenz in der Produkt
 ion
DESCRIPTION:Wie können Unternehmen KI-Lösungen konkret in der Produktion 
 einsetzen\, um Prozesse effizienter\, flexibler und zukunftsfähiger zu ge
 stalten? Der Technologieworkshop am ZeMA-Forschungsinstitut in Saarbrücke
 n richtet sich an Führungskräfte\, Entscheider:innen und Fachkräfte aus
  der Industrie\, die praxisnahe Einblicke in die modernste KI-Forschung su
 chen. Anhand von interaktiven Demonstratoren erleben die Teilnehmer:innen\
 , wie KI bereits heute Produktionsabläufe optimiert – von der Qualität
 ssicherung bis zur Predictive Maintenance. Key Learnings sind konkrete Anw
 endungsbeispiele\, Potenziale für den eigenen Betrieb und ein Netzwerk f
 ür den Transfer von Forschung in die Praxis.​
CATEGORIES:IT-Sicherheit,Künstliche Intelligenz,Weitere
 Digitalisierungsthemen
LOCATION:ZeMA - Zentrum für Mechatronik und Automatisierungstechnik gGmbH\
 , Eschberger Weg 46\, Saarbrücken\, Saarland\, 66121\, Deutschland
X-APPLE-STRUCTURED-LOCATION;VALUE=URI;X-ADDRESS=Eschberger Weg 46\, Saarbr
 ücken\, Saarland\, 66121\, Deutschland;X-APPLE-RADIUS=100;X-TITLE=ZeMA - 
 Zentrum für Mechatronik und Automatisierungstechnik gGmbH:geo:0,0
END:VEVENT
BEGIN:VTIMEZONE
TZID:Europe/Berlin
X-LIC-LOCATION:Europe/Berlin
BEGIN:DAYLIGHT
DTSTART:20260329T030000
TZOFFSETFROM:+0100
TZOFFSETTO:+0200
TZNAME:CEST
END:DAYLIGHT
END:VTIMEZONE
END:VCALENDAR