BEGIN:VCALENDAR
VERSION:2.0
PRODID:-//wp-events-plugin.com//7.2.3.1//EN
TZID:Europe/Berlin
X-WR-TIMEZONE:Europe/Berlin
BEGIN:VEVENT
UID:558@digitalzentrum-saarbruecken.de
DTSTART;TZID=Europe/Berlin:20260206T140000
DTEND;TZID=Europe/Berlin:20260206T153000
DTSTAMP:20251201T160356Z
URL:https://digitalzentrum-saarbruecken.de/events/themenreihe-ki-im-untern
 ehmen-anwendung-von-ki-loesungen-7-11-workshop/
SUMMARY:Themenreihe KI im Unternehmen:​ Anwendung von KI-Lösungen (7/11 
 - Workshop)​  ​
DESCRIPTION:In diesem Workshop geht es darum\, wie kleine und mittlere Unte
 rnehmen Künstliche Intelligenz konkret einsetzen können\, um effizienter
  und innovativer zu arbeiten. KI-Interessierte erhalten praxisnahe Beispie
 le von KI-Lösungen\, die man direkt im eigenen Arbeitsumfeld umzusetzen k
 ann. Am Ende nehmen sie konkrete Ideen und Tools mit\, die sie sofort nutz
 en können\, um Prozesse zu optimieren oder neue Geschäftsmodelle zu entw
 ickeln. Der Fokus liegt darauf\, Hemmschwellen abzubauen und die Teilnehme
 r:innen zu befähigen\, KI als Chance für ihr Unternehmen zu begreifen.
CATEGORIES:Künstliche Intelligenz,Nachhaltigkeit,Weitere
 Digitalisierungsthemen
LOCATION:Online Workshop\, Workshop\, Online\, Deutschland
X-APPLE-STRUCTURED-LOCATION;VALUE=URI;X-ADDRESS=Workshop\, Online\, Deutsch
 land;X-APPLE-RADIUS=100;X-TITLE=Online Workshop:geo:0,0
END:VEVENT
BEGIN:VTIMEZONE
TZID:Europe/Berlin
X-LIC-LOCATION:Europe/Berlin
BEGIN:STANDARD
DTSTART:20251026T020000
TZOFFSETFROM:+0200
TZOFFSETTO:+0100
TZNAME:CET
END:STANDARD
END:VTIMEZONE
END:VCALENDAR