BEGIN:VCALENDAR
VERSION:2.0
PRODID:-//wp-events-plugin.com//7.2.3.1//EN
TZID:Europe/Berlin
X-WR-TIMEZONE:Europe/Berlin
BEGIN:VEVENT
UID:561@digitalzentrum-saarbruecken.de
DTSTART;TZID=Europe/Berlin:20260218T100000
DTEND;TZID=Europe/Berlin:20260218T110000
DTSTAMP:20251212T093421Z
URL:https://digitalzentrum-saarbruecken.de/events/themenreihe-ki-im-untern
 ehmen-den-ai-act-verstehen-10-11-webinar/
SUMMARY:Themenreihe KI im Unternehmen: Den AI-Act verstehen (10/11 - Webina
 r)
DESCRIPTION:Künstliche Intelligenz (KI) entwickelt sich rasant – und fin
 det längst im Arbeitsalltag von KMU ihren Platz: Ob Chatbots zum Kundensu
 pport auf Websites oder im Wissensmanagement\, die Verwendung von KI-Inhal
 ten im Marketing\, automatische Bilderkennung bei Qualitätskontrolle von 
 Produkten oder intelligente Systeme in der Personalabteilung – viele Anw
 endungen erleichtern den Arbeitsalltag und/oder verbessern das Kundenerleb
 nis. Mit den neuen Chancen entstehen auch Risiken. Die KI-Verordnung der E
 uropäischen Union adressiert vor allem produktsicherheitsrechtliche Herau
 sforderungen von KI und bietet in dieser Hinsicht Antwort auf die Fragen: 
 Welche Regelungen gelten für mich? Was darf ich wie einsetzen?
CATEGORIES:Künstliche Intelligenz,Recht
LOCATION:Online Webinar\, Webinar\, Online\, Deutschland
X-APPLE-STRUCTURED-LOCATION;VALUE=URI;X-ADDRESS=Webinar\, Online\, Deutschl
 and;X-APPLE-RADIUS=100;X-TITLE=Online Webinar:geo:0,0
END:VEVENT
BEGIN:VTIMEZONE
TZID:Europe/Berlin
X-LIC-LOCATION:Europe/Berlin
BEGIN:STANDARD
DTSTART:20251026T020000
TZOFFSETFROM:+0200
TZOFFSETTO:+0100
TZNAME:CET
END:STANDARD
END:VTIMEZONE
END:VCALENDAR