BEGIN:VCALENDAR
VERSION:2.0
PRODID:-//wp-events-plugin.com//7.2.3.1//EN
TZID:Europe/Berlin
X-WR-TIMEZONE:Europe/Berlin
BEGIN:VEVENT
UID:549@digitalzentrum-saarbruecken.de
DTSTART;TZID=Europe/Berlin:20260203T130000
DTEND;TZID=Europe/Berlin:20260203T143000
DTSTAMP:20251201T160350Z
URL:https://digitalzentrum-saarbruecken.de/events/themenreihe-ki-im-untern
 ehmen-erfolgreich-ki-einfuehren-mit-change-kompetenz-widerstaende-ueberwin
 den-6-11-workshop/
SUMMARY:Themenreihe KI im Unternehmen: Erfolgreich KI einführen - Mit Chan
 ge-Kompetenz Widerstände überwinden (6/11 - Workshop)​ ​
DESCRIPTION:Ein zentraler Punkt für den Erfolg von Change-Projekten ist di
 e Mitwirkung der Beteiligten und deren Einstellung zum jeweiligen Projekt
 . Dieser Workshop sensibilisiert die Teilnehmenden für das Themenfeld de
 r Widerstände. Dabei wird der Fokus auch auf Herausforderungen gelegt\, d
 ie bei der Implementierung einer externen KI-Lösung​\nauftreten können
  (KI zukaufen). Teilnehmende erhalten praxisnahe Tipps\, wie sie diesen He
 rausforderungen begegnen können. Darüber hinaus werden in einer Übung t
 ypische Widerstandssituationen bei der Einführung von KI-Anwendungen und 
 praxisnahe Lösungsmöglichkeiten besprochen.
CATEGORIES:Changemanagement,Künstliche Intelligenz
LOCATION:Online Workshop\, Workshop\, Online\, Deutschland
X-APPLE-STRUCTURED-LOCATION;VALUE=URI;X-ADDRESS=Workshop\, Online\, Deutsch
 land;X-APPLE-RADIUS=100;X-TITLE=Online Workshop:geo:0,0
END:VEVENT
BEGIN:VTIMEZONE
TZID:Europe/Berlin
X-LIC-LOCATION:Europe/Berlin
BEGIN:STANDARD
DTSTART:20251026T020000
TZOFFSETFROM:+0200
TZOFFSETTO:+0100
TZNAME:CET
END:STANDARD
END:VTIMEZONE
END:VCALENDAR