BEGIN:VCALENDAR
VERSION:2.0
PRODID:-//wp-events-plugin.com//7.2.3.1//EN
TZID:Europe/Berlin
X-WR-TIMEZONE:Europe/Berlin
BEGIN:VEVENT
UID:547@digitalzentrum-saarbruecken.de
DTSTART;TZID=Europe/Berlin:20260127T130000
DTEND;TZID=Europe/Berlin:20260127T134500
DTSTAMP:20251203T080849Z
URL:https://digitalzentrum-saarbruecken.de/events/themenreihe-ki-im-untern
 ehmen-firmen-meetings-mal-anders-methoden-wie-lego-serious-play-koennen-he
 lfen-4-11-webinar/
SUMMARY:Themenreihe KI im Unternehmen: Firmen-Meetings mal anders: Methoden
  wie LEGO® SERIOUS PLAY® können helfen! (4/11 - Webinar)​
DESCRIPTION:Die Methode LEGO® SERIOUS PLAY® ermöglicht es Teams\, komple
 xe Geschäftsherausforderungen sichtbar zu machen\, kreative Ideen zu för
 dern und verborgene Wissensquellen zu aktivieren. Durch spielerische Authe
 ntizität steigert es Kommunikation\, Zusammenarbeit und Entscheidungsqual
 ität\, reduziert Missverständnisse und beschleunigt Innovationsprozesse 
 – egal ob eine Strategie entwickelt\, ein Produkt erdacht oder die Teamd
 ynamiken verbessert werden soll.
CATEGORIES:Changemanagement,Künstliche Intelligenz,Weitere
 Digitalisierungsthemen
LOCATION:Online Webinar\, Webinar\, Online\, Deutschland
X-APPLE-STRUCTURED-LOCATION;VALUE=URI;X-ADDRESS=Webinar\, Online\, Deutschl
 and;X-APPLE-RADIUS=100;X-TITLE=Online Webinar:geo:0,0
END:VEVENT
BEGIN:VTIMEZONE
TZID:Europe/Berlin
X-LIC-LOCATION:Europe/Berlin
BEGIN:STANDARD
DTSTART:20251026T020000
TZOFFSETFROM:+0200
TZOFFSETTO:+0100
TZNAME:CET
END:STANDARD
END:VTIMEZONE
END:VCALENDAR