BEGIN:VCALENDAR
VERSION:2.0
PRODID:-//wp-events-plugin.com//7.2.3.1//EN
TZID:Europe/Berlin
X-WR-TIMEZONE:Europe/Berlin
BEGIN:VEVENT
UID:544@digitalzentrum-saarbruecken.de
DTSTART;TZID=Europe/Berlin:20260116T100000
DTEND;TZID=Europe/Berlin:20260116T113000
DTSTAMP:20260115T131819Z
URL:https://digitalzentrum-saarbruecken.de/events/themenreihe-ki-im-untern
 ehmen-herausforderungen-und-grenzen-von-ki-1-11-webinar/
SUMMARY:Themenreihe KI im Unternehmen: Herausforderungen und Grenzen von KI
  (1/11-Webinar)
DESCRIPTION:Wir zeigen\, wo KI heute an ihre Grenzen stößt – von Datenq
 ualität\, Bias\, über Halluzinationen bis hin zu fehlende Erklärbarkeit
 . Teilnehmende erhalten einen kompakten\, praxisnahen Überblick über Ris
 iken und realistische Erwartungen für den Einsatz von KI.​
CATEGORIES:Künstliche Intelligenz,Weitere Digitalisierungsthemen
LOCATION:Online Webinar\, Webinar\, Online\, Deutschland
X-APPLE-STRUCTURED-LOCATION;VALUE=URI;X-ADDRESS=Webinar\, Online\, Deutschl
 and;X-APPLE-RADIUS=100;X-TITLE=Online Webinar:geo:0,0
END:VEVENT
BEGIN:VTIMEZONE
TZID:Europe/Berlin
X-LIC-LOCATION:Europe/Berlin
BEGIN:STANDARD
DTSTART:20251026T020000
TZOFFSETFROM:+0200
TZOFFSETTO:+0100
TZNAME:CET
END:STANDARD
END:VTIMEZONE
END:VCALENDAR