BEGIN:VCALENDAR
VERSION:2.0
PRODID:-//wp-events-plugin.com//7.2.3.1//EN
TZID:Europe/Berlin
X-WR-TIMEZONE:Europe/Berlin
BEGIN:VEVENT
UID:562@digitalzentrum-saarbruecken.de
DTSTART;TZID=Europe/Berlin:20260305T140000
DTEND;TZID=Europe/Berlin:20260305T144500
DTSTAMP:20260304T112646Z
URL:https://digitalzentrum-saarbruecken.de/events/themenreihe-ki-im-untern
 ehmen-it-sicherheit-ki-chancen-sicher-nutzen-11-11-webinar/
SUMMARY:Themenreihe KI im Unternehmen: IT-Sicherheit & KI - Chancen sicher 
 nutzen (11/11 – Webinar)​
DESCRIPTION:In der Veranstaltung „IT-Sicherheit & KI: Chancen sicher nutz
 en“ lernen Teilnehmende\, wie sie ihr Unternehmen ganzheitlich vor digit
 alen Bedrohungen schützen. Neben grundlegender Awareness zu IT-Sicherheit
  werden Risiken beim Einsatz von Künstlicher Intelligenz beleuchtet – e
 rgänzt durch praxisnahe Handlungsempfehlungen für einen sicheren\, veran
 twortungsvollen und zugleich chancenorientierten Umgang mit KI-Technologie
 n.​
CATEGORIES:IT-Sicherheit,Künstliche Intelligenz,Weitere
 Digitalisierungsthemen
LOCATION:Online Webinar\, Webinar\, Online\, Deutschland
X-APPLE-STRUCTURED-LOCATION;VALUE=URI;X-ADDRESS=Webinar\, Online\, Deutschl
 and;X-APPLE-RADIUS=100;X-TITLE=Online Webinar:geo:0,0
END:VEVENT
BEGIN:VTIMEZONE
TZID:Europe/Berlin
X-LIC-LOCATION:Europe/Berlin
BEGIN:STANDARD
DTSTART:20251026T020000
TZOFFSETFROM:+0200
TZOFFSETTO:+0100
TZNAME:CET
END:STANDARD
END:VTIMEZONE
END:VCALENDAR