BEGIN:VCALENDAR
VERSION:2.0
PRODID:-//wp-events-plugin.com//7.2.3.1//EN
TZID:Europe/Berlin
X-WR-TIMEZONE:Europe/Berlin
BEGIN:VEVENT
UID:546@digitalzentrum-saarbruecken.de
DTSTART;TZID=Europe/Berlin:20260123T100000
DTEND;TZID=Europe/Berlin:20260123T123000
DTSTAMP:20251202T142031Z
URL:https://digitalzentrum-saarbruecken.de/events/themenreihe-ki-im-untern
 ehmen-organisation-changemanagement-ki-erfolgreich-einfuehren-3-11-worksho
 p/
SUMMARY:Themenreihe KI im Unternehmen: Organisation & Changemanagement - KI
  erfolgreich einführen (3/11 - Workshop)​
DESCRIPTION:Dieser Workshop bietet Ihnen einen umfassenden Überblick über
  die Herausforderungen\, die bei der Einführung einer KI-Anwendung in ein
 em Unternehmen in Bezug auf die Organisation und die Mitarbeitenden entste
 hen. Zudem werden die entscheidenden Faktoren für den Erfolg eines solche
 n Projektes beleuchtet. Darüber hinaus werden verschiedene praxisnahe Lö
 sungsmöglichkeiten präsentiert.​​
CATEGORIES:Changemanagement,Künstliche Intelligenz
LOCATION:Online Workshop\, Workshop\, Online\, Deutschland
X-APPLE-STRUCTURED-LOCATION;VALUE=URI;X-ADDRESS=Workshop\, Online\, Deutsch
 land;X-APPLE-RADIUS=100;X-TITLE=Online Workshop:geo:0,0
END:VEVENT
BEGIN:VTIMEZONE
TZID:Europe/Berlin
X-LIC-LOCATION:Europe/Berlin
BEGIN:STANDARD
DTSTART:20251026T020000
TZOFFSETFROM:+0200
TZOFFSETTO:+0100
TZNAME:CET
END:STANDARD
END:VTIMEZONE
END:VCALENDAR