BEGIN:VCALENDAR
VERSION:2.0
PRODID:-//wp-events-plugin.com//7.2.3.1//EN
TZID:Europe/Berlin
X-WR-TIMEZONE:Europe/Berlin
BEGIN:VEVENT
UID:545@digitalzentrum-saarbruecken.de
DTSTART;TZID=Europe/Berlin:20260120T130000
DTEND;TZID=Europe/Berlin:20260120T140000
DTSTAMP:20251201T160329Z
URL:https://digitalzentrum-saarbruecken.de/events/themenreihe-ki-im-untern
 ehmen-technische-voraussetzungen-fuer-den-einsatz-von-ki-2-11-workshop/
SUMMARY:Themenreihe KI im Unternehmen: Technische Voraussetzungen für den 
 Einsatz von KI (2/11 – Workshop)​
DESCRIPTION:Dieser Workshop vermittelt praxisnah\, welche technischen Grund
 lagen notwendig sind\, um Künstliche Intelligenz erfolgreich einzuführen
  und zu betreiben.​\nTeilnehmende erhalten einen Überblick über benöt
 igte Hardware\, Software\, Dateninfrastruktur und Sicherheitsaspekte. Anha
 nd praxisorientierter Beispiele wird gezeigt\, wie Unternehmen ihre IT-Lan
 dschaft Schritt für Schritt KI-fähig machen können – auch mit begrenz
 ten Ressourcen.
CATEGORIES:Künstliche Intelligenz
LOCATION:Online Workshop\, Workshop\, Online\, Deutschland
X-APPLE-STRUCTURED-LOCATION;VALUE=URI;X-ADDRESS=Workshop\, Online\, Deutsch
 land;X-APPLE-RADIUS=100;X-TITLE=Online Workshop:geo:0,0
END:VEVENT
BEGIN:VTIMEZONE
TZID:Europe/Berlin
X-LIC-LOCATION:Europe/Berlin
BEGIN:STANDARD
DTSTART:20251026T020000
TZOFFSETFROM:+0200
TZOFFSETTO:+0100
TZNAME:CET
END:STANDARD
END:VTIMEZONE
END:VCALENDAR