BEGIN:VCALENDAR
VERSION:2.0
PRODID:-//wp-events-plugin.com//7.2.3.1//EN
TZID:Europe/Berlin
X-WR-TIMEZONE:Europe/Berlin
BEGIN:VEVENT
UID:526@digitalzentrum-saarbruecken.de
DTSTART;TZID=Europe/Berlin:20251205T140000
DTEND;TZID=Europe/Berlin:20251205T150000
DTSTAMP:20251126T145846Z
URL:https://digitalzentrum-saarbruecken.de/events/themenreihe-ki-programmi
 eren-webinar-daten-fuer-ki-optimal-aufbereiten-4-6/
SUMMARY:Webinar: Themenreihe KI Programmieren - Daten für KI optimal aufbe
 reiten (4/6)​
DESCRIPTION:In diesem Webinar lernen Sie\, wie Datenbanken sinnvoll struktu
 riert werden\, wie Sie mit SQL-Abfragen arbeiten und Daten für KI-Trainin
 gs vorbereiten – von der Bereinigung bis zum Preprocessing.
CATEGORIES:IT-Sicherheit,Künstliche Intelligenz,Weitere
 Digitalisierungsthemen
LOCATION:Online Webinar\, Webinar\, Online\, Deutschland
X-APPLE-STRUCTURED-LOCATION;VALUE=URI;X-ADDRESS=Webinar\, Online\, Deutschl
 and;X-APPLE-RADIUS=100;X-TITLE=Online Webinar:geo:0,0
END:VEVENT
BEGIN:VTIMEZONE
TZID:Europe/Berlin
X-LIC-LOCATION:Europe/Berlin
BEGIN:STANDARD
DTSTART:20251026T020000
TZOFFSETFROM:+0200
TZOFFSETTO:+0100
TZNAME:CET
END:STANDARD
END:VTIMEZONE
END:VCALENDAR