BEGIN:VCALENDAR
VERSION:2.0
PRODID:-//wp-events-plugin.com//7.2.3.1//EN
TZID:Europe/Berlin
X-WR-TIMEZONE:Europe/Berlin
BEGIN:VEVENT
UID:525@digitalzentrum-saarbruecken.de
DTSTART;TZID=Europe/Berlin:20251120T140000
DTEND;TZID=Europe/Berlin:20251120T150000
DTSTAMP:20251119T090701Z
URL:https://digitalzentrum-saarbruecken.de/events/themenreihe-ki-programmi
 eren-webinar-daten-identifizieren-fuer-einen-echten-mehrwert-3-6/
SUMMARY:Webinar: Themenreihe KI Programmieren - Daten identifizieren für e
 inen echten Mehrwert (3/6)
DESCRIPTION:In diesem Webinar erfahren Sie\, wie Sie Datenquellen gezielt b
 ewerten und für den Einsatz in KI-Anwendungen auswählen. Dabei lernen Si
 e\, typische Fallstricke zu vermeiden und Daten so aufzubereiten\, dass si
 e den größten Nutzen bringen.
CATEGORIES:Künstliche Intelligenz,Weitere Digitalisierungsthemen
LOCATION:Online Webinar\, Webinar\, Online\, Deutschland
X-APPLE-STRUCTURED-LOCATION;VALUE=URI;X-ADDRESS=Webinar\, Online\, Deutschl
 and;X-APPLE-RADIUS=100;X-TITLE=Online Webinar:geo:0,0
END:VEVENT
BEGIN:VTIMEZONE
TZID:Europe/Berlin
X-LIC-LOCATION:Europe/Berlin
BEGIN:STANDARD
DTSTART:20251026T020000
TZOFFSETFROM:+0200
TZOFFSETTO:+0100
TZNAME:CET
END:STANDARD
END:VTIMEZONE
END:VCALENDAR