BEGIN:VCALENDAR
VERSION:2.0
PRODID:-//wp-events-plugin.com//7.2.3.1//EN
TZID:Europe/Berlin
X-WR-TIMEZONE:Europe/Berlin
BEGIN:VEVENT
UID:523@digitalzentrum-saarbruecken.de
DTSTART;TZID=Europe/Berlin:20251113T140000
DTEND;TZID=Europe/Berlin:20251113T151500
DTSTAMP:20251013T073251Z
URL:https://digitalzentrum-saarbruecken.de/events/themenreihe-ki-programmi
 eren-webinar-ki-code-fuer-einsteiger-1-6/
SUMMARY:Webinar: Themenreihe KI Programmieren - KI & Code für Einsteiger (
 1/6)
DESCRIPTION:Dieses Webinar bietet einen verständlichen Einstieg in die Gru
 ndlagen von Programmierung und KI. Sie erhalten zunächst einen Überblick
  über verschiedene Ansätze und erfahren anhand praxisnaher Beispiele\, w
 ie maschinelles Lernen funktioniert.
CATEGORIES:Künstliche Intelligenz,Weitere Digitalisierungsthemen
LOCATION:Online Webinar\, Webinar\, Online\, Deutschland
X-APPLE-STRUCTURED-LOCATION;VALUE=URI;X-ADDRESS=Webinar\, Online\, Deutschl
 and;X-APPLE-RADIUS=100;X-TITLE=Online Webinar:geo:0,0
END:VEVENT
BEGIN:VTIMEZONE
TZID:Europe/Berlin
X-LIC-LOCATION:Europe/Berlin
BEGIN:STANDARD
DTSTART:20251026T020000
TZOFFSETFROM:+0200
TZOFFSETTO:+0100
TZNAME:CET
END:STANDARD
END:VTIMEZONE
END:VCALENDAR