BEGIN:VCALENDAR
VERSION:2.0
PRODID:-//wp-events-plugin.com//7.2.3.1//EN
TZID:Europe/Berlin
X-WR-TIMEZONE:Europe/Berlin
BEGIN:VEVENT
UID:524@digitalzentrum-saarbruecken.de
DTSTART;TZID=Europe/Berlin:20251118T140000
DTEND;TZID=Europe/Berlin:20251118T160000
DTSTAMP:20251117T124642Z
URL:https://digitalzentrum-saarbruecken.de/events/themenreihe-ki-programmi
 eren-workshop-voraussetzungen-zum-einsatz-von-ki-2-6/
SUMMARY:Workshop: Themenreihe KI Programmieren - Voraussetzungen zum Einsat
 z von KI (2/6)
DESCRIPTION:In diesem Workshop erhalten Sie einen praxisnahen Überblick ü
 ber die wichtigsten Aspekte: von der Aufnahme und Speicherung bis hin zur 
 Übertragung von Daten sowie den typischen Schnittstellen in der Produktio
 n.
CATEGORIES:IT-Sicherheit,Künstliche Intelligenz,Weitere
 Digitalisierungsthemen
LOCATION:Online Workshop\, Workshop\, Online\, Deutschland
X-APPLE-STRUCTURED-LOCATION;VALUE=URI;X-ADDRESS=Workshop\, Online\, Deutsch
 land;X-APPLE-RADIUS=100;X-TITLE=Online Workshop:geo:0,0
END:VEVENT
BEGIN:VTIMEZONE
TZID:Europe/Berlin
X-LIC-LOCATION:Europe/Berlin
BEGIN:STANDARD
DTSTART:20251026T020000
TZOFFSETFROM:+0200
TZOFFSETTO:+0100
TZNAME:CET
END:STANDARD
END:VTIMEZONE
END:VCALENDAR