BEGIN:VCALENDAR
VERSION:2.0
PRODID:-//wp-events-plugin.com//7.2.3.1//EN
TZID:Europe/Berlin
X-WR-TIMEZONE:Europe/Berlin
BEGIN:VEVENT
UID:278@digitalzentrum-saarbruecken.de
DTSTART;TZID=Europe/Berlin:20240605T133000
DTEND;TZID=Europe/Berlin:20240605T153000
DTSTAMP:20240529T083331Z
URL:https://digitalzentrum-saarbruecken.de/events/themenreihe-logistik-im-
 unternehmen-mit-der-richtigen-logistik-zum-erfolg-legen-sie-den-grundstein
 /
SUMMARY:Themenreihe Logistik im Unternehmen: Mit der richtigen Logistik zum
  Erfolg - Legen Sie den Grundstein
DESCRIPTION:Im ersten Workshop der Themenreihe erkunden wir die grundlegend
 en Prinzipien des Logistikmanagements\, die als tragende Säulen für effi
 ziente und effektive Abläufe in Ihrem Unternehmen dienen. Sie erhalten ei
 n tiefgreifendes Verständnis für die Bedeutung der Logistik in der heuti
 gen Geschäftswelt und erfahren\, wie sie als kritischer Erfolgsfaktor fü
 r die Wettbewerbsfähigkeit und Kundenzufriedenheit dient. Sie lernen prak
 tische Werkzeuge und Strategien kennen\, um Ihre Logistikprozesse zu analy
 sieren\, zu planen und zu verbessern. Dabei wird immer der Bezug zur Unter
 stützung der Prozesse durch IT-Systeme und Digitalisierung aufgezeigt.
LOCATION:Online Webinar\, Webinar\, Online\, Deutschland
X-APPLE-STRUCTURED-LOCATION;VALUE=URI;X-ADDRESS=Webinar\, Online\, Deutschl
 and;X-APPLE-RADIUS=100;X-TITLE=Online Webinar:geo:0,0
END:VEVENT
BEGIN:VTIMEZONE
TZID:Europe/Berlin
X-LIC-LOCATION:Europe/Berlin
BEGIN:DAYLIGHT
DTSTART:20240331T030000
TZOFFSETFROM:+0100
TZOFFSETTO:+0200
TZNAME:CEST
END:DAYLIGHT
END:VTIMEZONE
END:VCALENDAR