BEGIN:VCALENDAR
VERSION:2.0
PRODID:-//wp-events-plugin.com//7.2.3.1//EN
TZID:Europe/Berlin
X-WR-TIMEZONE:Europe/Berlin
BEGIN:VEVENT
UID:280@digitalzentrum-saarbruecken.de
DTSTART;TZID=Europe/Berlin:20240621T133000
DTEND;TZID=Europe/Berlin:20240621T153000
DTSTAMP:20240529T084403Z
URL:https://digitalzentrum-saarbruecken.de/events/themenreihe-logistik-im-
 unternehmen-prozessoptimierung-steigern-sie-ihre-effizienz/
SUMMARY:Themenreihe Logistik im Unternehmen: Prozessoptimierung - Steigern 
 Sie Ihre Effizienz
DESCRIPTION:In dritten Workshop der Themenreihe liegt der Schwerpunkt auf d
 er Optimierung logistischer Prozesse\, wobei besonderes Augenmerk auf die 
 Steigerung der Effizienz und die Anwendung von Lean-Management-Prinzipien 
 gelegt wird. Es werden zentrale Kennzahlen und Leistungsindikatoren (KPIs)
  vorgestellt\, die für die Messung und Verbesserung der logistischen Leis
 tungsfähigkeit entscheidend sind. Die Teilnehmer:innen lernen\, diese Kon
 zepte im Kontext der fortschreitenden Digitalisierung anzuwenden und zu in
 tegrieren.
LOCATION:Online Webinar\, Webinar\, Online\, Deutschland
X-APPLE-STRUCTURED-LOCATION;VALUE=URI;X-ADDRESS=Webinar\, Online\, Deutschl
 and;X-APPLE-RADIUS=100;X-TITLE=Online Webinar:geo:0,0
END:VEVENT
BEGIN:VTIMEZONE
TZID:Europe/Berlin
X-LIC-LOCATION:Europe/Berlin
BEGIN:DAYLIGHT
DTSTART:20240331T030000
TZOFFSETFROM:+0100
TZOFFSETTO:+0200
TZNAME:CEST
END:DAYLIGHT
END:VTIMEZONE
END:VCALENDAR