BEGIN:VCALENDAR
VERSION:2.0
PRODID:-//wp-events-plugin.com//7.2.3.1//EN
TZID:Europe/Berlin
X-WR-TIMEZONE:Europe/Berlin
BEGIN:VEVENT
UID:325@digitalzentrum-saarbruecken.de
DTSTART;TZID=Europe/Berlin:20240702T100000
DTEND;TZID=Europe/Berlin:20240702T113000
DTSTAMP:20240620T131843Z
URL:https://digitalzentrum-saarbruecken.de/events/themenreihe-nachhaltigke
 it-digital-gesteuert-der-digitale-produktpass-ein-wettbewerbsvorteil-fuer-
 kmu-2/
SUMMARY:Themenreihe: Nachhaltigkeit digital gesteuert: Der Digitale Produkt
 pass – Ein Wettbewerbsvorteil für KMU
DESCRIPTION:Willkommen zur Veranstaltung „Der Digitale Produktpass“ –
  einer EU-Initiative\, die nicht nur die Art und Weise\, wie wir Produkte 
 herstellen und nutzen\, revolutionieren wird\, sondern auch einen wesentli
 chen Schritt hin zu einer nachhaltigeren und effizienteren Wirtschaft dars
 tellt.
LOCATION:Online Webinar\, Webinar\, Online\, Deutschland
X-APPLE-STRUCTURED-LOCATION;VALUE=URI;X-ADDRESS=Webinar\, Online\, Deutschl
 and;X-APPLE-RADIUS=100;X-TITLE=Online Webinar:geo:0,0
END:VEVENT
BEGIN:VTIMEZONE
TZID:Europe/Berlin
X-LIC-LOCATION:Europe/Berlin
BEGIN:DAYLIGHT
DTSTART:20240331T030000
TZOFFSETFROM:+0100
TZOFFSETTO:+0200
TZNAME:CEST
END:DAYLIGHT
END:VTIMEZONE
END:VCALENDAR