BEGIN:VCALENDAR
VERSION:2.0
PRODID:-//wp-events-plugin.com//7.2.3.1//EN
TZID:Europe/Berlin
X-WR-TIMEZONE:Europe/Berlin
BEGIN:VEVENT
UID:594@digitalzentrum-saarbruecken.de
DTSTART;TZID=Europe/Berlin:20260519T111500
DTEND;TZID=Europe/Berlin:20260519T120000
DTSTAMP:20260226T085727Z
URL:https://digitalzentrum-saarbruecken.de/events/veranstaltungsreihe-ausg
 ewaehlte-erfolgsfaktoren-in-ki-change-projekten-erfolgsfaktor-umgang-mit-w
 iderstaenden-3-3-webinar/
SUMMARY:Veranstaltungsreihe Ausgewählte Erfolgsfaktoren in KI-Change-Proje
 kten: Erfolgsfaktor Umgang mit Widerständen (3/3 - Webinar)
DESCRIPTION:Der Termin am 19.05. rückt das Thema Widerstände in den Fokus
 . Sie erfahren vom Mittelstand-Digital Zentrum Hamburg\, welche Arten von 
 Widerständen es gibt und wie ein wirksamer Umgang mit Widerständen dazu 
 führt\, erfolgreich KI-Projekte umsetzen zu können.
CATEGORIES:Changemanagement,Künstliche Intelligenz
LOCATION:Online Webinar\, Webinar\, Online\, Deutschland
X-APPLE-STRUCTURED-LOCATION;VALUE=URI;X-ADDRESS=Webinar\, Online\, Deutschl
 and;X-APPLE-RADIUS=100;X-TITLE=Online Webinar:geo:0,0
END:VEVENT
BEGIN:VTIMEZONE
TZID:Europe/Berlin
X-LIC-LOCATION:Europe/Berlin
BEGIN:DAYLIGHT
DTSTART:20260329T030000
TZOFFSETFROM:+0100
TZOFFSETTO:+0200
TZNAME:CEST
END:DAYLIGHT
END:VTIMEZONE
END:VCALENDAR