BEGIN:VCALENDAR
VERSION:2.0
PRODID:-//wp-events-plugin.com//7.2.3.1//EN
TZID:Europe/Berlin
X-WR-TIMEZONE:Europe/Berlin
BEGIN:VEVENT
UID:531@digitalzentrum-saarbruecken.de
DTSTART;TZID=Europe/Berlin:20251208T130000
DTEND;TZID=Europe/Berlin:20251208T140000
DTSTAMP:20251208T065502Z
URL:https://digitalzentrum-saarbruecken.de/events/webinar-ki-agenten-im-ei
 nsatz-grundlagen-und-potenziale-3/
SUMMARY:Webinar: KI-Agenten im Einsatz: Grundlagen und Potenziale​
DESCRIPTION:Haben Sie sich gefragt\, wie KI-Agenten Ihr Unternehmen voranbr
 ingen können? In diesem Webinar erhalten Sie einen Überblick über die g
 rundlegenden Technologien und entdecken die vielfältigen Chancen\, die si
 ch daraus ergeben. Was unterscheidet KI-Agenten von Large Language Models 
 (LLMs)? Wie können sie Prozesse automatisieren\, die Effizienz steigern u
 nd Ihre Wettbewerbsfähigkeit stärken? Erfahren Sie\, wie KI-Agenten Ihr 
 Unternehmen unterstützen können – und das ganz ohne tiefgehende Vorken
 ntnisse.​
CATEGORIES:Künstliche Intelligenz
LOCATION:Online Webinar\, Webinar\, Online\, Deutschland
X-APPLE-STRUCTURED-LOCATION;VALUE=URI;X-ADDRESS=Webinar\, Online\, Deutschl
 and;X-APPLE-RADIUS=100;X-TITLE=Online Webinar:geo:0,0
END:VEVENT
BEGIN:VTIMEZONE
TZID:Europe/Berlin
X-LIC-LOCATION:Europe/Berlin
BEGIN:STANDARD
DTSTART:20251026T020000
TZOFFSETFROM:+0200
TZOFFSETTO:+0100
TZNAME:CET
END:STANDARD
END:VTIMEZONE
END:VCALENDAR