BEGIN:VCALENDAR
VERSION:2.0
PRODID:-//wp-events-plugin.com//7.2.3.1//EN
TZID:Europe/Berlin
X-WR-TIMEZONE:Europe/Berlin
BEGIN:VEVENT
UID:556@digitalzentrum-saarbruecken.de
DTSTART;TZID=Europe/Berlin:20260217T130000
DTEND;TZID=Europe/Berlin:20260217T140000
DTSTAMP:20260211T105031Z
URL:https://digitalzentrum-saarbruecken.de/events/webinaren-suchmaschinenm
 arketing-basics-in-zeiten-von-ki/
SUMMARY:Webinar: Suchmaschinenmarketing-Basics in Zeiten von KI – Wie opt
 imieren Sie Ihre Sichtbarkeit?
DESCRIPTION:Was ist überhaupt Suchmaschinenmarketing und was ist der Unter
 schied zwischen SEO und SEA? In diesem Workshop lernen Sie\, wie Sie Ihre 
 Website mit einfachen Mitteln besser sichtbar machen. Wir erklären Ihnen 
 die Grundlagen von Suchmaschinenoptimierung und Suchmaschinenwerbung und z
 eigen\, wie Sie KI und aktuelle Google-Tools nutzen\, um mehr Besucher:inn
 en zu erreichen.
CATEGORIES:Künstliche Intelligenz
LOCATION:Online Webinar\, Webinar\, Online\, Deutschland
X-APPLE-STRUCTURED-LOCATION;VALUE=URI;X-ADDRESS=Webinar\, Online\, Deutschl
 and;X-APPLE-RADIUS=100;X-TITLE=Online Webinar:geo:0,0
END:VEVENT
BEGIN:VTIMEZONE
TZID:Europe/Berlin
X-LIC-LOCATION:Europe/Berlin
BEGIN:STANDARD
DTSTART:20251026T020000
TZOFFSETFROM:+0200
TZOFFSETTO:+0100
TZNAME:CET
END:STANDARD
END:VTIMEZONE
END:VCALENDAR