BEGIN:VCALENDAR
VERSION:2.0
PRODID:-//wp-events-plugin.com//7.2.3.1//EN
TZID:Europe/Berlin
X-WR-TIMEZONE:Europe/Berlin
BEGIN:VEVENT
UID:554@digitalzentrum-saarbruecken.de
DTSTART;TZID=Europe/Berlin:20260303T130000
DTEND;TZID=Europe/Berlin:20260303T150000
DTSTAMP:20260213T124503Z
URL:https://digitalzentrum-saarbruecken.de/events/workshop-erfolgreiches-a
 rbeiten-ausserhalb-des-bueros-wie-remote-work-durch-ki-und-digitalisierung
 -optimiert-werden-kann-3/
SUMMARY:Workshop:​ Erfolgreiches Arbeiten außerhalb des Büros: ​Wie R
 emote-Work durch KI und Digitalisierung optimiert werden kann
DESCRIPTION:In einer zunehmend digitalen Welt wird Remote-Arbeit immer wich
 tiger. Doch wie können Sie sicherstellen\, dass Sie und Ihr Team auch von
  zu Hause aus effizient und produktiv arbeiten können? Unser Workshop bie
 tet Ihnen praxisnahe Einblicke und konkrete Beispiele\, wie Sie digitale T
 echnologien und Künstliche Intelligenz (KI) optimal nutzen können\, soda
 ss weder Produktivität noch soziale Aspekte auf der Strecke bleiben. Dar
 über hinaus bietet der Workshop die Möglichkeit\, in einer Übung die Pe
 rspektive einer Interessensgruppe\, die an einem Change-Prozess zur Einfü
 hrung von Remote-Work beteiligt ist\, einzunehmen.   
CATEGORIES:Künstliche Intelligenz,Weitere Digitalisierungsthemen
LOCATION:Online Webinar\, Webinar\, Online\, Deutschland
X-APPLE-STRUCTURED-LOCATION;VALUE=URI;X-ADDRESS=Webinar\, Online\, Deutschl
 and;X-APPLE-RADIUS=100;X-TITLE=Online Webinar:geo:0,0
END:VEVENT
BEGIN:VTIMEZONE
TZID:Europe/Berlin
X-LIC-LOCATION:Europe/Berlin
BEGIN:STANDARD
DTSTART:20251026T020000
TZOFFSETFROM:+0200
TZOFFSETTO:+0100
TZNAME:CET
END:STANDARD
END:VTIMEZONE
END:VCALENDAR