BEGIN:VCALENDAR
VERSION:2.0
PRODID:-//wp-events-plugin.com//7.2.3.1//EN
TZID:Europe/Berlin
X-WR-TIMEZONE:Europe/Berlin
BEGIN:VEVENT
UID:535@digitalzentrum-saarbruecken.de
DTSTART;TZID=Europe/Berlin:20251216T110000
DTEND;TZID=Europe/Berlin:20251216T114500
DTSTAMP:20251208T142237Z
URL:https://digitalzentrum-saarbruecken.de/events/workshop-ki-chatbots-sic
 her-im-unternehmen-tipps-und-tricks/
SUMMARY:Workshop: KI-Chatbots sicher im Unternehmen anwenden - Tipps & Tric
 ks zum Datenschutz in großen LLM
DESCRIPTION:Ob Kundeninformationen\, interne Dokumente oder vertrauliche Ge
 schäftszahlen – im Arbeitsalltag gibt es viele sensible Daten. Der Eins
 atz von KI-Chatbots wie ChatGPT wirft deshalb wichtige Fragen auf: Was pas
 siert mit diesen Daten? Werden sie gespeichert oder gar weiterverwendet?\n
 In diesem Webinar erfahren Sie\, wie große Sprachmodelle (LLM) mit Daten 
 umgehen\, welche Standardeinstellungen Risiken bergen und wie Sie die wich
 tigsten Datenschutzeinstellungen anpassen. Ziel ist es\, dass Sie KI-Chatb
 ots sicher in Ihrem Unternehmen einsetzen können – ohne ungewollte Date
 nlecks.
CATEGORIES:Künstliche Intelligenz
LOCATION:Online Webinar\, Webinar\, Online\, Deutschland
X-APPLE-STRUCTURED-LOCATION;VALUE=URI;X-ADDRESS=Webinar\, Online\, Deutschl
 and;X-APPLE-RADIUS=100;X-TITLE=Online Webinar:geo:0,0
END:VEVENT
BEGIN:VTIMEZONE
TZID:Europe/Berlin
X-LIC-LOCATION:Europe/Berlin
BEGIN:STANDARD
DTSTART:20251026T020000
TZOFFSETFROM:+0200
TZOFFSETTO:+0100
TZNAME:CET
END:STANDARD
END:VTIMEZONE
END:VCALENDAR