BEGIN:VCALENDAR
VERSION:2.0
PRODID:-//wp-events-plugin.com//7.2.3.1//EN
TZID:Europe/Berlin
X-WR-TIMEZONE:Europe/Berlin
BEGIN:VEVENT
UID:503@digitalzentrum-saarbruecken.de
DTSTART;TZID=Europe/Berlin:20251007T140000
DTEND;TZID=Europe/Berlin:20251007T153000
DTSTAMP:20251006T090727Z
URL:https://digitalzentrum-saarbruecken.de/events/workshop-umgang-mit-wide
 rstaenden-in-change-projekten-7/
SUMMARY:Workshop: Umgang mit Widerständen in Change-Projekten
DESCRIPTION:Ein zentraler Punkt für den Erfolg von Change-Projekten ist di
 e Mitwirkung der Beteiligten und deren Einstellung zu dem jeweiligen Proje
 kt. Sofern es im Laufe des Projektes zu Widerständen kommt\, gilt es\, ad
 äquat zu reagieren. Dieser Workshop sensibilisiert die Teilnehmenden für
  das Themenfeld der Widerstände. Dabei wird auch die Wichtigkeit von Komm
 unikation und Partizipation im Kontext der Widerstände thematisiert.
LOCATION:Online Workshop\, Workshop\, Online\, Deutschland
X-APPLE-STRUCTURED-LOCATION;VALUE=URI;X-ADDRESS=Workshop\, Online\, Deutsch
 land;X-APPLE-RADIUS=100;X-TITLE=Online Workshop:geo:0,0
END:VEVENT
BEGIN:VTIMEZONE
TZID:Europe/Berlin
X-LIC-LOCATION:Europe/Berlin
BEGIN:DAYLIGHT
DTSTART:20250330T030000
TZOFFSETFROM:+0100
TZOFFSETTO:+0200
TZNAME:CEST
END:DAYLIGHT
END:VTIMEZONE
END:VCALENDAR